BEGIN:VCALENDAR
VERSION:2.0
PRODID:-//Día de la persona emprendedora//EmprenemJunts//ES
BEGIN:VEVENT
UID:Evento_6236
DTSTAMP:20131024T164800Z
DTSTART:20131119T173000Z
DTEND:20131119T183000Z
SUMMARY:El ecosistema de las aplicaciones mÃ³viles
DESCRIPTION:Centro de Eventos
LOCATION:Valencia
URL:https://diadelapersonaemprendedora.emprenemjunts.es/?op=14&n=6236
END:VEVENT
END:VCALENDAR
