BEGIN:VCALENDAR
VERSION:2.0
PRODID:-//Día de la persona emprendedora//EmprenemJunts//ES
BEGIN:VEVENT
UID:Evento_6249
DTSTAMP:20131026T082500Z
DTSTART:20131119T120000Z
DTEND:20131119T130000Z
SUMMARY:Emprende en comercio
DESCRIPTION:Centro de Eventos
LOCATION:Valencia
URL:https://diadelapersonaemprendedora.emprenemjunts.es/?op=14&n=6249
END:VEVENT
END:VCALENDAR
