BEGIN:VCALENDAR
VERSION:2.0
PRODID:-//Día de la persona emprendedora//EmprenemJunts//ES
BEGIN:VEVENT
UID:Evento_6265
DTSTAMP:20131029T092500Z
DTSTART:20131119T120000Z
DTEND:20131119T123000Z
SUMMARY:De las tendencias a las oportunidades empresariales
DESCRIPTION:Centro de Eventos
LOCATION:Valencia
URL:https://diadelapersonaemprendedora.emprenemjunts.es/?op=14&n=6265
END:VEVENT
END:VCALENDAR
