BEGIN:VCALENDAR
VERSION:2.0
PRODID:-//Día de la persona emprendedora//EmprenemJunts//ES
BEGIN:VEVENT
UID:Evento_6302
DTSTAMP:20131103T201300Z
DTSTART:20131119T160000Z
DTEND:20131119T170000Z
SUMMARY:Emprender desde un centro colaborativo. Experiencias y oportunidades
DESCRIPTION:Ciudad Emprendedora: Emprendeplus
LOCATION:Valencia
URL:https://diadelapersonaemprendedora.emprenemjunts.es/?op=14&n=6302
END:VEVENT
END:VCALENDAR
