BEGIN:VCALENDAR
VERSION:2.0
PRODID:-//Día de la persona emprendedora//EmprenemJunts//ES
BEGIN:VEVENT
UID:Evento_6349
DTSTAMP:20131107T155600Z
DTSTART:20131119T160000Z
DTEND:20131119T163000Z
SUMMARY:Ley de emprendedores
DESCRIPTION:PabellÃ³n 5- Zona Aula de FinanciaciÃ³n
LOCATION:Valencia
URL:https://diadelapersonaemprendedora.emprenemjunts.es/?op=14&n=6349
END:VEVENT
END:VCALENDAR
