BEGIN:VCALENDAR
VERSION:2.0
PRODID:-//CEEI Castellón//EmprenemJunts//ES
BEGIN:VEVENT
UID:Evento_7204
DTSTAMP:20140522T121400Z
DTSTART:20140620T110000Z
DTEND:20140620T120000Z
SUMMARY:Acto de Entrega Premios Monkey 2014, porque las ideas evolucionan
DESCRIPTION:VII ediciÃ³n PREMIOS MONKEY, para estudiantes de Bachillerato y Ciclos formativos de Grado Medio y Superior de la provincia de CastellÃ³n.
LOCATION:Castellon
URL:https://ceeicastellon.emprenemjunts.es/?op=14&n=7204
END:VEVENT
END:VCALENDAR
