BEGIN:VCALENDAR
VERSION:2.0
PRODID:-//Emprenemjunts//EmprenemJunts//ES
BEGIN:VEVENT
UID:Evento_8350
DTSTAMP:20141222T095800Z
DTSTART:20150128T150000Z
DTEND:20150131T130000Z
SUMMARY:ACTUA Convierte en Realidad tu Idea de Negocio. 2ª edición.
DESCRIPTION:Hacemos crecer tus ideas de negocio.
LOCATION:San Vicente del Raspeig
URL:https://www.emprenemjunts.es/?op=14&n=8350
END:VEVENT
END:VCALENDAR
