BEGIN:VCALENDAR
VERSION:2.0
PRODID:-//CEEI Valencia//EmprenemJunts//ES
BEGIN:VEVENT
UID:Evento_9817
DTSTAMP:20151102T084557Z
DTSTART:20151106T170000Z
DTEND:20151106T190000Z
SUMMARY:Como hablar en público, convencer y vender (Elevator Pich)
DESCRIPTION:
LOCATION:Benisanó
URL:https://ceeivalencia.emprenemjunts.es/?op=14&n=9817
END:VEVENT
END:VCALENDAR
